BEGIN:VCALENDAR
VERSION:2.0
PRODID:-//eventon.com NONSGML v1.0//EN
BEGIN:VEVENT
UID:69ecc94e0cc92
DTSTAMP:20260425T090150
DTSTART:20260415T230000Z
DTEND:20260416T030000Z
LOCATION:
SUMMARY:Wednesday Night Mens League
DESCRIPTION: Limited Lanes Available for Open Bowl 6pm-10PM Due to Leagues - Call 630-879-8717 for details. 
END:VEVENT
END:VCALENDAR