BEGIN:VCALENDAR
VERSION:2.0
PRODID:-//eventon.com NONSGML v1.0//EN
BEGIN:VEVENT
UID:69ecc93336f40
DTSTAMP:20260425T090123
DTSTART:20260407T233000Z
DTEND:20260408T023000Z
LOCATION:
SUMMARY:Tuesday - Funway Foxes
DESCRIPTION: Limited Lanes Available 6:30pm-9:30PM Due to Leagues - Call 630-879-8717 for details. 
END:VEVENT
END:VCALENDAR