BEGIN:VCALENDAR
VERSION:2.0
PRODID:-//eventon.com NONSGML v1.0//EN
BEGIN:VEVENT
UID:69ecc8671c714
DTSTAMP:20260425T085759
DTSTART:20260423T230000Z
DTEND:20260424T030000Z
LOCATION:
SUMMARY:Something Else & Every Other Thursday Bowling Leagues
DESCRIPTION: Limited Lanes Available for Open Bowl 6pm-10PM Due to Leagues - Call 630-879-8717 for details. 
END:VEVENT
END:VCALENDAR