BEGIN:VCALENDAR
VERSION:2.0
PRODID:-//eventon.com NONSGML v1.0//EN
BEGIN:VEVENT
UID:69ecc8e1f3ce5
DTSTAMP:20260425T090001
DTSTART:20260402T230000Z
DTEND:20260403T030000Z
LOCATION:
SUMMARY:Something Else Bowling League
DESCRIPTION: 10 Lanes Available for Open Bowl 6pm-10PM Due to Leagues - Call 630-879-8717 for details. 
END:VEVENT
END:VCALENDAR