BEGIN:VCALENDAR
VERSION:2.0
PRODID:-//eventon.com NONSGML v1.0//EN
BEGIN:VEVENT
UID:69ecc8156d03d
DTSTAMP:20260425T085637
DTSTART:20260413T223000Z
DTEND:20260414T020000Z
LOCATION:
SUMMARY:Monday Night Mens
DESCRIPTION: Limited Lanes Available 6pm-9PM Due to Leagues - Call 630-879-8717 for details. 
END:VEVENT
END:VCALENDAR