BEGIN:VCALENDAR
VERSION:2.0
PRODID:-//eventon.com NONSGML v1.0//EN
BEGIN:VEVENT
UID:69ecc93ec5ebd
DTSTAMP:20260425T090134
DTSTART:20260515T230000Z
DTEND:20260516T023000Z
LOCATION:
SUMMARY:Once A Month Friday League
DESCRIPTION: No Lanes Available for Open Bowl 6pm-9:30PM Due to Leagues - Call 630-879-8717 for details. 
END:VEVENT
END:VCALENDAR