BEGIN:VCALENDAR
VERSION:2.0
PRODID:-//eventon.com NONSGML v1.0//EN
BEGIN:VEVENT
UID:69ecc7b875e4f
DTSTAMP:20260425T085504
DTSTART:20260411T223000Z
DTEND:20260412T020000Z
LOCATION:
SUMMARY:The Trails Bowling League
DESCRIPTION: No Lanes Available for Open Bowl 5:30pm-9PM Due to Leagues - Call 630-879-8717 for details. 
END:VEVENT
END:VCALENDAR