BEGIN:VCALENDAR
VERSION:2.0
PRODID:-//eventon.com NONSGML v1.0//EN
BEGIN:VEVENT
UID:69ecc805229ad
DTSTAMP:20260425T085621
DTSTART:20260508T231500Z
DTEND:20260509T030000Z
LOCATION:
SUMMARY:Every Other Friday Bowling League
DESCRIPTION: No Lanes Available for Open Bowl 6:15pm-10PM (Due to Leagues: Call 630-879-8717 for details)
END:VEVENT
END:VCALENDAR