BEGIN:VCALENDAR
VERSION:2.0
PRODID:-//eventon.com NONSGML v1.0//EN
BEGIN:VEVENT
UID:69ecc7f536175
DTSTAMP:20260425T085605
DTSTART:20260424T231500Z
DTEND:20260425T030000Z
LOCATION:
SUMMARY:Every Other Friday Bowling League
DESCRIPTION: No Lanes Available for Open Bowl 6:15pm-10PM (Due to Leagues: Call 630-879-8717 for details)
END:VEVENT
END:VCALENDAR