BEGIN:VCALENDAR
VERSION:2.0
PRODID:-//eventon.com NONSGML v1.0//EN
BEGIN:VEVENT
UID:69ece3099c389
DTSTAMP:20260425T105137
DTSTART:20260509T230000Z
DTEND:20260510T023000Z
LOCATION:
SUMMARY:The Trails Bowling League
DESCRIPTION: No Lanes Available for Open Bowl 6pm-9:30PM Due to Leagues - Call 630-879-8717 for details. 
END:VEVENT
END:VCALENDAR